BEGIN:VCALENDAR
VERSION:2.0
PRODID:-//Bursa&#039;daki Etkinlikler - ECPv6.15.20//NONSGML v1.0//EN
CALSCALE:GREGORIAN
METHOD:PUBLISH
X-WR-CALNAME:Bursa&#039;daki Etkinlikler
X-ORIGINAL-URL:https://bursaetkinlikleri.com
X-WR-CALDESC:Bursa&#039;daki Etkinlikler için etkinlikler
REFRESH-INTERVAL;VALUE=DURATION:PT1H
X-Robots-Tag:noindex
X-PUBLISHED-TTL:PT1H
BEGIN:VTIMEZONE
TZID:Europe/Istanbul
BEGIN:STANDARD
TZOFFSETFROM:+0300
TZOFFSETTO:+0300
TZNAME:+03
DTSTART:20240101T000000
END:STANDARD
END:VTIMEZONE
BEGIN:VEVENT
DTSTART;TZID=Europe/Istanbul:20250207T203000
DTEND;TZID=Europe/Istanbul:20250207T203000
DTSTAMP:20260424T074548
CREATED:20250115T211751Z
LAST-MODIFIED:20250115T211751Z
UID:1396-1738960200-1738960200@bursaetkinlikleri.com
SUMMARY:Altıncı Koğuş
DESCRIPTION:Bursa’da Şubat ayı etkinlikleri Aspera Sahne’de devam ediyor. 7 Şubat Cuma günü saat 20:30’de Aspera Sahne‘de seyirci ile buluşacak Altıncı Koğuş\, tüm sanat severleri davet ediyor.\n\n\n\n\nYaş Sınırı: 14+ \nÜnlü yazar Anton Çehov un ölümsüz eseri Altıncı Koğuş sahnelere taşınıyor. Çehov bir taşra kasabasındaki akıl hastanesinde geçen bu novellasında\, eğitimli bir hasta olan İvan Dmitriç ile Doktor Andrey Yefimıç arasındaki felsefi çatışmaya gelin hep beraber tanık olalım… \nEtkinlik Türü Tiyatro\nSüre 55 dakika
URL:https://bursaetkinlikleri.com/event/altinci-kogus/
LOCATION:Aspera Sahne\, 100 yıl mahallesi\, Uğur Mumcu Blv. No:53/B Kat2\, 16250 Ni̇lüfer/Bursa\, Bursa\, Nilüfer\, Turkey
CATEGORIES:Bursa Şubat Ayı Etkinlikleri,Tiyatro
ATTACH;FMTTYPE=image/jpeg:https://bursaetkinlikleri.com/wp-content/uploads/2025/01/altinci-kogus-anton-cehov-Aspera-Sahne-bursa-etkinlikleri.jpeg
END:VEVENT
BEGIN:VEVENT
DTSTART;TZID=Europe/Istanbul:20250212T203000
DTEND;TZID=Europe/Istanbul:20250212T203000
DTSTAMP:20260424T074548
CREATED:20250122T130249Z
LAST-MODIFIED:20250122T130249Z
UID:1486-1739392200-1739392200@bursaetkinlikleri.com
SUMMARY:Denize Doğru Orhan Veli
DESCRIPTION:Bursa Şubat ayı etkinlikleri\, ‘Denize Doğru Orhan Veli’ tiyatro oyunu ile devam ediyor. 12 Şubat Çarşamba günü\, Bursa Aspera Sahne’de seyirci ile buluşacak olan Denize Doğru Orhan Veli tiyatro oyununda 8+ yaş sınırı bulunmaktadır.\n\n\n\nYaş Sınırı: Yaş sınırı yoktur.\nSüre: 70 dk \nDeniz kokuyor bu oyun\, deniz!\nYosun kokusu geliyor burnumuza!\nMartıların dinmeyen gürültüsü havada.\nSorun var mı? Derseniz yok…\nProblem var mı? Yok…\nBöyle akıp gidiyor Orhan Veli’nin hikayesi…\nBazen parkta yürüyor\, bazen sokakta…\nÜç masalı balıkçı meyhanesinde soluklanıyor\,\nDertleri öylesine bir saza vuruyor\, aşkları canlanıyor.\nGaripliği aklına geliyor\, kederleri şarkıya dönüşüyor.\nİşte böyle zaman akıp gidiyor\nBirde bakıyorsun yolu yine denize çıkıyor.\nDenize doğru\nOrhan Veli’yi göreceksin;\nSakın şaşırma!
URL:https://bursaetkinlikleri.com/event/denize-dogru-orhan-veli/
LOCATION:Aspera Sahne\, 100 yıl mahallesi\, Uğur Mumcu Blv. No:53/B Kat2\, 16250 Ni̇lüfer/Bursa\, Bursa\, Nilüfer\, Turkey
CATEGORIES:Akış,Bursa Şubat Ayı Etkinlikleri,Bursa'da Öne Çıkan Etkinlikler,Tiyatro
ATTACH;FMTTYPE=image/jpeg:https://bursaetkinlikleri.com/wp-content/uploads/2025/01/denize-dogru-orhan-veli-bursa-subat-etkinlikleir.jpeg
END:VEVENT
END:VCALENDAR