BEGIN:VCALENDAR
VERSION:2.0
PRODID:-//Bursa&#039;daki Etkinlikler - ECPv6.15.20//NONSGML v1.0//EN
CALSCALE:GREGORIAN
METHOD:PUBLISH
X-ORIGINAL-URL:https://bursaetkinlikleri.com
X-WR-CALDESC:Bursa&#039;daki Etkinlikler için etkinlikler
REFRESH-INTERVAL;VALUE=DURATION:PT1H
X-Robots-Tag:noindex
X-PUBLISHED-TTL:PT1H
BEGIN:VTIMEZONE
TZID:Europe/Istanbul
BEGIN:STANDARD
TZOFFSETFROM:+0300
TZOFFSETTO:+0300
TZNAME:+03
DTSTART:20240101T000000
END:STANDARD
END:VTIMEZONE
BEGIN:VEVENT
DTSTART;TZID=Europe/Istanbul:20250201T200000
DTEND;TZID=Europe/Istanbul:20250201T200000
DTSTAMP:20260420T081207
CREATED:20241231T174224Z
LAST-MODIFIED:20241231T174237Z
UID:1304-1738440000-1738440000@bursaetkinlikleri.com
SUMMARY:Leyla ile Mecnun Değil
DESCRIPTION:Bursa’da Şubat ayı etkinlikleri BAOB Sahne’de  devam ediyor. 1 Şubat Cumartesi günü saat 20:00’de BAOB Sahne’de sergilenecek olan Leyla ile Mecnun Değil tiyatro oyunu\, tüm sanat severler davet ediyor.\n\n\n\n\n\n\n\n\n\nYaş Sınırı: 13+\nSüre: 75 dk / Tek Perde\nEtkinlik Türü Komedi \nCharlie Chaplin “Komedi yapmak için tek ihtiyacım olan bir park\, bir polis ve hoş bir kız” demiştir. Her zaman aklımın bir tarafında mıh gibi tuttum bu sözü; ve zaman ve hayat ve değişimin kaçınılmaz hızı Chaplin’in komedi yapma ihtiyacını günümüze yine en kışkırtıcı şekliyle taşıyor. Bir park\, bir polis\, hoş bir kız; zaman ve dahi mekana göre “HERKES” oluyor. Ben oluyor\, sen oluyor\, o oluyor. Chaplin’in parkı\, polisi ve hoş kızı her şeydir\, herkestir artık\, tıpkı Chaplin’in “HERKES” olması gibi… \nLeyla ile Mecnun Değil bizim komedi yapmak için “HERKES”lerimizdir. Kadın ile Adam boşanmak üzerelerdir. Yaklaşık altı aydır evleri ayırmışlar\, birbirlerinden uzaklaşmak\, bitmiş bir aşktan kaçmakla\, yeniden ateşlenmekten korkmak arasında gel-gitler ve kör olası alışkanlığın boyunduruğu ile cebelleşmektedirler. Boşanmalarına iki gün kala en sevdikleri\, en çok görüştükleri\, aşklarına tanıklık etmiş hatta nikah şahitliklerini yapmış İskender abileri ölüverir. Kadın ile Adam gömeceklerdir İskender abilerini; tam da boşanma davasından bir gün önce. Cenaze ve merasim silsilesi içinde geçen oyunumuzda\, ‘Kadın ve Adam’ı ilişkilerini sorgularken\, bazen didişirken\, bazen de gülüşürken izleriz. Sevginin içinde öfke\, hüznün içinde gülümseme\, hızın içinde durgunluk. İnsanlık tüm azgınlığı ve doyumsuzluğuyla tüketirken dünyayı\, Kadın ve Adamlar tükenmeyecekler mi? Çok iyi anlaşmak bile zarar mı verecek? Beraber çok çok ama çok eğlenmek bile tüketecek mi? Tükenmek\, yeniden yaratılmak belki de. Bir cenaze üzerinden\, boşanan iki çiftin herkes gibi olduğu\, küresel erkek-kadın dertlerinin dünyanın dertleriyle örtüştüğü\, yaşamı ve ölümü tekleştiren oyunumuzla seyircimizle birlikte çok eğleneceğiz
URL:https://bursaetkinlikleri.com/event/leyla-ile-mecnun-degil/
LOCATION:BAOB Sahne\, Odunluk\, Akpınar Cd. No:8\, 16110 Ni̇lüfer/Bursa\, Bursa\, Nilüfer\, 16000\, Turkey
CATEGORIES:Bursa Şubat Ayı Etkinlikleri,Tiyatro
ATTACH;FMTTYPE=image/jpeg:https://bursaetkinlikleri.com/wp-content/uploads/2024/12/leyla-ile-mecnun-degil-baob-sahne-etkinlikleri.jpg
END:VEVENT
BEGIN:VEVENT
DTSTART;TZID=Europe/Istanbul:20250204T200000
DTEND;TZID=Europe/Istanbul:20250204T200000
DTSTAMP:20260420T081207
CREATED:20250115T143910Z
LAST-MODIFIED:20250115T143928Z
UID:1349-1738699200-1738699200@bursaetkinlikleri.com
SUMMARY:Doğu Ekspresinde Cinayet
DESCRIPTION:Bursa’da Şubat ayı etkinlikleri BAOB Sahne’de devam ediyor. 4 Şubat Salı günü saat 20:00’de BAOB Sahne’de seyirci ile buluşacak Doğu Ekspresinde Cinayet tiyatro oyunu\, tüm sanat severleri davet ediyor.\n\n\nYaş Sınırı: 13+\nSüre: 2 Perde / 120 Dakika \nAgatha Christie’nin “Doğu Ekspresinde Cinayet” Romanı Tiyatro Sahnesinde! \n1933 yılında Agatha Christie’nin İstanbul Pera Palas’ta kaleme aldığı\, o yıldan günümüze kadar onlarca dile çevrilen\, sinema filmi uyarlamaları yapılan kült eseri  Doğu Ekspresinde Cinayet sizlerle buluşuyor. Christie’nin dünyaca ünlü dedektifi Hercule Poirot\, ete kemiğe Atilla Şendil’in oyunculuğuyla bürünüyor. \nİstanbul’dan yola çıkan Doğu Ekspresi’nde çok farklı karakterlerin yanı sıra dünyanın en ünlü dedektifi Hercule Poirot da vardır. Daha ilk gece trende vahşi bir cinayet işlenir. Ama bunu yapabilecek herkesin tanığı vardır. Üstelik cinayetin işlendiği kompartıman gereğinden fazla kanıtla doludur. Poirot hayatında ilk defa sıkıntılı anlar yaşamaktadır. Maktulü kim ya da kimler neden öldürmüştür? Sıradan bir yolcu grubu gibi görünen kişiler aslında bir şeyler mi saklamaktadır? Tren bir dağ başında kara saplanıp mahsur kalınca Poirot polis gelmeden katil ya da katilleri bulmak için zamanla yarışmaya başlar.
URL:https://bursaetkinlikleri.com/event/dogu-ekspresinde-cinayet/
LOCATION:BAOB Sahne\, Odunluk\, Akpınar Cd. No:8\, 16110 Ni̇lüfer/Bursa\, Bursa\, Nilüfer\, 16000\, Turkey
CATEGORIES:Bursa Şubat Ayı Etkinlikleri,Bursa'da Öne Çıkan Etkinlikler,Tiyatro
ATTACH;FMTTYPE=image/jpeg:https://bursaetkinlikleri.com/wp-content/uploads/2025/01/dogu-ekspresinde-cinayeti-bursa-subat-ayi-etkinlikleri.jpg
END:VEVENT
BEGIN:VEVENT
DTSTART;TZID=Europe/Istanbul:20250205T200000
DTEND;TZID=Europe/Istanbul:20250205T200000
DTSTAMP:20260420T081207
CREATED:20250115T144104Z
LAST-MODIFIED:20250115T144104Z
UID:1354-1738785600-1738785600@bursaetkinlikleri.com
SUMMARY:Doğu Ekspresinde Cinayet
DESCRIPTION:Bursa’da Şubat ayı etkinlikleri BAOB Sahne’de devam ediyor. 4 Şubat Salı günü saat 20:00’de BAOB Sahne’de seyirci ile buluşacak Doğu Ekspresinde Cinayet tiyatro oyunu\, tüm sanat severleri davet ediyor.\n\n\nYaş Sınırı: 13+\nSüre: 2 Perde / 120 Dakika \nAgatha Christie’nin “Doğu Ekspresinde Cinayet” Romanı Tiyatro Sahnesinde! \n1933 yılında Agatha Christie’nin İstanbul Pera Palas’ta kaleme aldığı\, o yıldan günümüze kadar onlarca dile çevrilen\, sinema filmi uyarlamaları yapılan kült eseri  Doğu Ekspresinde Cinayet sizlerle buluşuyor. Christie’nin dünyaca ünlü dedektifi Hercule Poirot\, ete kemiğe Atilla Şendil’in oyunculuğuyla bürünüyor. \nİstanbul’dan yola çıkan Doğu Ekspresi’nde çok farklı karakterlerin yanı sıra dünyanın en ünlü dedektifi Hercule Poirot da vardır. Daha ilk gece trende vahşi bir cinayet işlenir. Ama bunu yapabilecek herkesin tanığı vardır. Üstelik cinayetin işlendiği kompartıman gereğinden fazla kanıtla doludur. Poirot hayatında ilk defa sıkıntılı anlar yaşamaktadır. Maktulü kim ya da kimler neden öldürmüştür? Sıradan bir yolcu grubu gibi görünen kişiler aslında bir şeyler mi saklamaktadır? Tren bir dağ başında kara saplanıp mahsur kalınca Poirot polis gelmeden katil ya da katilleri bulmak için zamanla yarışmaya başlar.
URL:https://bursaetkinlikleri.com/event/dogu-ekspresinde-cinayet-2/
LOCATION:BAOB Sahne\, Odunluk\, Akpınar Cd. No:8\, 16110 Ni̇lüfer/Bursa\, Bursa\, Nilüfer\, 16000\, Turkey
CATEGORIES:Bursa Şubat Ayı Etkinlikleri,Tiyatro
ATTACH;FMTTYPE=image/jpeg:https://bursaetkinlikleri.com/wp-content/uploads/2025/01/dogu-ekspresinde-cinayeti-bursa-subat-ayi-etkinlikleri.jpg
END:VEVENT
BEGIN:VEVENT
DTSTART;TZID=Europe/Istanbul:20250206T200000
DTEND;TZID=Europe/Istanbul:20250206T200000
DTSTAMP:20260420T081207
CREATED:20250115T144737Z
LAST-MODIFIED:20250115T144737Z
UID:1361-1738872000-1738872000@bursaetkinlikleri.com
SUMMARY:Şeydeki Şey-Bir NADİR Komedi
DESCRIPTION:Bursa’da Şubat ayı etkinlikleri BAOB Sahne’de devam ediyor. 6 Şubat Perşembe günü saat 20:00’de BAOB Sahne’de seyirci ile buluşacak Şeydeki Şey-Bir NADİR Komedi\, tüm sanat severleri davet ediyor.\n\n\nSeyirciyi yüksek tempoda\, oyunun içine katarak\, duygudan duyguya taşıyan ŞEYDEKİ  ŞEY\, “Bir Nadir Komedi”\, uzaktan bakıldığında renkli ve eğlenceli görünen sanat dünyasının  perde arkasında yaşanan\, ancak hiç konuşulmayan\,  çarpık sistemini eğlenceli bir üslupla hicvediyor. \nOyun\, öz saygısını bütün değerlerin üzerinde tutan\, alın teri ile dürüst yoldan hayatını kazanma çabasında ki bir insanın\, trajikomik hayat öyküsünü çevresinde gelişen acımasız olayların kahramanları gözünden sahneye taşıyor. \nTek kişilik oyunda\, Koray Karaca\, Türk Tiyatrosunun geleneksel meddahlık sanatını\,  günümüz stand up anlayışla harmanlayarak\, onlarca karakteri canlandırdığı kendine has üsluptaki yeni komedi türünde üstün bir performans sergiliyor. \nYazan-Yöneten: Koray KARACA \nOrganizatör Firma: BKST Yapım-Sahneser Medya\nOyuncu: Koray Karaca\nYapımcı: Abdullah Yüksekcan\nSahne Amiri: Mert Yeldan\nReji Asistanı: İrem Şeyma Topsakal\nOyun Müzikleri: Nuri Sarp\nVideo Tasarım: İrem Şeyma Topsakal\nAfiş Tasarım: Sezgin Akgündüz
URL:https://bursaetkinlikleri.com/event/seydeki-sey-bir-nadir-komedi/
LOCATION:BAOB Sahne\, Odunluk\, Akpınar Cd. No:8\, 16110 Ni̇lüfer/Bursa\, Bursa\, Nilüfer\, 16000\, Turkey
CATEGORIES:Bursa Şubat Ayı Etkinlikleri,Tiyatro
ATTACH;FMTTYPE=image/jpeg:https://bursaetkinlikleri.com/wp-content/uploads/2025/01/seydeki-sey-bir-nadir-komedi-bursa-subat-ayi-etkinlikleri.jpg
END:VEVENT
BEGIN:VEVENT
DTSTART;TZID=Europe/Istanbul:20250207T200000
DTEND;TZID=Europe/Istanbul:20250207T200000
DTSTAMP:20260420T081207
CREATED:20250115T211044Z
LAST-MODIFIED:20250115T211044Z
UID:1389-1738958400-1738958400@bursaetkinlikleri.com
SUMMARY:Okan Çabalar Stand Up
DESCRIPTION:Bursa’da Şubat ayı etkinlikleri BAOB Sahne’de devam ediyor. 7 Şubat Cuma günü saat 20:00’de BAOB Sahne’de seyirci ile buluşacak Okan Çabalar Stand Up\, tüm sanat severleri davet ediyor.\n\n\n\nYer aldığı birçok skeç programı\, dizi ve filmlerde yarattığı başarılı tiplemelerle mizahseverlerin beğenisi kazanan Okan Çabalar\, izleyicisiyle buluşmaya devam ediyor. \nEtkinlik Türü Stand up
URL:https://bursaetkinlikleri.com/event/okan-cabalar-stand-up/
LOCATION:BAOB Sahne\, Odunluk\, Akpınar Cd. No:8\, 16110 Ni̇lüfer/Bursa\, Bursa\, Nilüfer\, 16000\, Turkey
CATEGORIES:Bursa Şubat Ayı Etkinlikleri,Stand Up
ATTACH;FMTTYPE=image/png:https://bursaetkinlikleri.com/wp-content/uploads/2025/01/okan-cabalar-subat-bursa-etkinlikleri.png
END:VEVENT
END:VCALENDAR