BEGIN:VCALENDAR
VERSION:2.0
PRODID:-//Bursa&#039;daki Etkinlikler - ECPv6.15.20//NONSGML v1.0//EN
CALSCALE:GREGORIAN
METHOD:PUBLISH
X-WR-CALNAME:Bursa&#039;daki Etkinlikler
X-ORIGINAL-URL:https://bursaetkinlikleri.com
X-WR-CALDESC:Bursa&#039;daki Etkinlikler için etkinlikler
REFRESH-INTERVAL;VALUE=DURATION:PT1H
X-Robots-Tag:noindex
X-PUBLISHED-TTL:PT1H
BEGIN:VTIMEZONE
TZID:Europe/Istanbul
BEGIN:STANDARD
TZOFFSETFROM:+0300
TZOFFSETTO:+0300
TZNAME:+03
DTSTART:20230101T000000
END:STANDARD
END:VTIMEZONE
BEGIN:VEVENT
DTSTART;TZID=Europe/Istanbul:20241001T210000
DTEND;TZID=Europe/Istanbul:20241001T210000
DTSTAMP:20260424T162830
CREATED:20240918T151414Z
LAST-MODIFIED:20240918T154334Z
UID:789-1727816400-1727816400@bursaetkinlikleri.com
SUMMARY:Anadolu Ateşi
DESCRIPTION:Anadolu Ateşi Dans Gösterisi\nYaş Sınırı:  7 yaş ve üzeri bilete tabidir \nAnadolu Ateşi yanmaya Bursa’da devam ediyor. \nAnadolu Ateşi’nin temel konsepti medeniyetler buluşmasıdır. Doğu ile batı kültürlerinin buluşmasını hedefleyen\, evrensel barış mesajları veren bir dans portresidir. Halk danslarını bale\, modern dans ve dansın diğer disiplinleri ile sentezleyerek dünyaya modern standartlarda bir gösteriyi\, bir kültürel şöleni sunmaktadır. Kaynağını Anadolu’nun binlerce yıllık mitolojik ve kültürel tarihinden alan Anadolu  Ateşi hemen hemen her yöreden derlenmiş 3000 halk dansı figürü ve halk müziğini içinde barındıran özgün bir projedir. Mustafa Erdoğan imzasını taşıyan proje\, Anadolu’nun binlerce yıllık kültür ve tarih mozaiğinin barışla harmanlanan ateşini tüm dünyaya tanıtmayı hedeflemektedir. \n1999 yılında\, yıllar öncesine dayanan bir hayali gerçekleştirmek üzere ilk adımını atan Mustafa Erdoğan\, eski adı Sultan’s of the Dance olan projenin tempolu çalışmalarını  başlattı. Önce gazetelere “dansçı aranıyor” ilanları verildi. 750 aday arasından 90 genç  seçildi ve bir buçuk yıl sürecek zorlu bir çalışma temposu başladı. Günde 8\, zaman zaman 16 saat süren çalışmalar… Kostümler hazırlandı\, müzikler tamamlandı. Estetik egzersiz\, dietisyen ve masaj uzmanları ile çalışıldı. Strech ve yoga yapıldı. Çalışmalar halk dansları adımları\, bale ve modern dans konularında yoğunlaştı. Dansçılar Anadolu ritmlerinin notasyonu konulu teorik dersler aldılar. \nVe 3 Mayıs 2001 tarihinde 3-4 gösteri için sahne alıp daha sonra yurt dışında  sahnelenmesi planlanan gösterinin\, aylar önce biletlerinin tükenmesi nedeni ile  Türkiye’deki programının uzatılması kararı alındı. Anadolu Ateşi\, 2002 yılında dünya  turnesine başlayarak 106 ülkede (bir çok ülkeye defalarca gidilmiştir) 5000’den fazla gösteri ile 47 milyonu aşan sanatsever tarafından izlenildi. Bugüne kadar yapılan yurtdışı turneleri ve tanıtım çalışmalarıyla dünyanın sayılı dans  toplulukları arasında gösterilen Anadolu Ateşi\, ulusal kültürümüzün gücüyle\, evrensele ulaşan en görkemli projedir. Ülkemizin büyük organizasyonlarında Eurovision 2004-Universiade 2005 sahne alan topluluk dünya basını tarafından ilgiyle izlenilmiştir. Grup\, Amerika’da New York Madison Square Garden\, Chicago’da Chicago Theater\, Fransa’da Bercy\, Çin’de Çin Halk Parlamento Binası\, Moskova’da Kremlin Palace\, Mısır’da tarihi Muhammet Ali Camisi ve Piramitlerin Önü gibi dünyanın en önemli  merkezlerinde gösteri yapmış ve başta cumhurbaşkanları\, başbakanlar\, krallar olmak üzere ülke liderleri tarafından ayakta alkışlanmıştır. \nAnadolu Ateşi 2001’den bugüne İsrail\, Almanya\, Çin\, Hollanda\, Belçika\, İsviçre\, K.K.T.C.\, Japonya\, Avusturya\, Katar\, Lübnan\, Rusya\, Azerbaycan\, Ürdün\, Sibirya\,  Romanya\, Bulgaristan\, Mısır\, Fransa\, Amerika\, Macaristan\, Saray Bosna\, Bahreyn\, Malezya\, Yunanistan\, Gürcistan\, Makedonya\, Sırbistan\, Hırvatistan\,  Dubai\, Slovenya\, Polonya\, Beyaz Rusya\, Letonya\, Kazakistan\, Ukrayna\, Kırım\,Yeni Zelanda\, Tunus\, İtalya\, Slovakya\, Arnavutluk\, Filistin\, İspanya\, Portekiz\, Suriye\, İngiltere\, Martinik Adası-Karayipler’de gösteriler sunmuş ve Anadolu kültürünü tüm dünyaya  tanıtmıştır.Anadolu Ateşi ilgili dünya basınında haberlerin sayısı 10 bini geçmiştir. Grup\, 250 kişilik dansçı kadrosuyla aynı anda dünyanın farklı 3 yerinde gösteri yapabilmektedir.
URL:https://bursaetkinlikleri.com/event/anadolu-atesi/
LOCATION:Kültürpark Açıkhava Tiyatrosu\, Soğanlı\, 3. Osman Gazi Cd.\, 16190 Osmangazi̇/Bursa\, Bursa\, Osmangazi\, 16000\, Turkey
CATEGORIES:Akış,Bursa'da Öne Çıkan Etkinlikler,Festival & Müzikal
ATTACH;FMTTYPE=image/jpeg:https://bursaetkinlikleri.com/wp-content/uploads/2024/09/bursa-ekim-etkinlikleri-anadolu-atesi.jpg
END:VEVENT
BEGIN:VEVENT
DTSTART;TZID=Europe/Istanbul:20241002T200000
DTEND;TZID=Europe/Istanbul:20241002T200000
DTSTAMP:20260424T162830
CREATED:20240918T152159Z
LAST-MODIFIED:20240918T154326Z
UID:810-1727899200-1727899200@bursaetkinlikleri.com
SUMMARY:Notre Dame'ın Kamburu Müzikali
DESCRIPTION:Notre Dame’ın Kamburu Müzikali\nYaş Sınırı: 12+\nSüre: 2 perde\, 100 Dakika \nKumbara Görsel Sanatlar Tiyatrosunun yapımını üstlendiği Notre Dame’ ın Kamburu Müzikali\, Fransız ve dünya edebiyatının en ünlü yazarlarından biri olan Victor Hugo’nun Notre Dame’ın Kamburu kitabından esinlenilen ve Fransa’da imparatorluk döneminin ihtilal sonrası karanlık günlerinden kesitler sunuyor ve kaderin insanların hayatındaki yerini ve bu yoksulluk ile mücadeleyi anlatıyor. Muzikalde; Notre Dame Katedralinin ruhani ve dini lideri Claude Frollo’nun kilisenin önünde bulduğu \,çirkin ve kambur olduğu için eksik anlamına gelen Quasimodo ismini verdiği \,büyüdüğünde kilisenin zangocu olan Quasimodo ile Claude Frollo’nun ve Kral’a bağlı komutan Phoebus’un semtte yaşayan Çingene Kızı Esmeralda’ya olan aşklarını\, Zangoç ile Papaz’ın ruhlarında oluşan ikilemleri ve tepkileri romantik yaklaşımla ele alınıyor.
URL:https://bursaetkinlikleri.com/event/notre-damein-kamburu-muzikali/
LOCATION:BAOB Sahne\, Odunluk\, Akpınar Cd. No:8\, 16110 Ni̇lüfer/Bursa\, Bursa\, Nilüfer\, 16000\, Turkey
CATEGORIES:Akış,Bursa'da Öne Çıkan Etkinlikler,Festival & Müzikal
ATTACH;FMTTYPE=image/jpeg:https://bursaetkinlikleri.com/wp-content/uploads/2024/09/bursa-ekim-etkinlikleri-notre-damein-kamburu-muzikali.jpg
END:VEVENT
BEGIN:VEVENT
DTSTART;TZID=Europe/Istanbul:20241012T130000
DTEND;TZID=Europe/Istanbul:20241012T134000
DTSTAMP:20260424T162830
CREATED:20241008T142310Z
LAST-MODIFIED:20241008T142310Z
UID:961-1728738000-1728740400@bursaetkinlikleri.com
SUMMARY:Ege ile Gaga Ay Macerası
DESCRIPTION:Yaş Sınırı: 3-10 Yaş Arası İçin Uygundur.\nSüre: 40 Dakika \nTRT Çocuk’un sevilen çizgi filmi Ege ile Gaga sahnelerde…\nYaşasın! Doğa Dedektifleri Ege ile Gaga yeni bir macera peşindeler.Bu kez bir tiyatro oyunu ile karşımızdalar.\nOyunda çoooook ama çok uzağa\, Ay’a gitmeyi planlıyorlar.Ama bazı sorunlarla karşılaşacaklar. Bakalıms orunları çözüp Ay’a gidebilecekler mi? 10! 9! 8! 7! 6! 5! 4! 3! 2! 1! Roket havalanabilir de\, havalanmayabilir de! Siz yine de sıkı tutunun olur mu?
URL:https://bursaetkinlikleri.com/event/ege-ile-gaga-ay-macerasi/
LOCATION:BAOB Sahne\, Odunluk\, Akpınar Cd. No:8\, 16110 Ni̇lüfer/Bursa\, Bursa\, Nilüfer\, 16000\, Turkey
CATEGORIES:Akış,Bursa'da Öne Çıkan Etkinlikler
ATTACH;FMTTYPE=image/jpeg:https://bursaetkinlikleri.com/wp-content/uploads/2024/10/ege-ile-gaga-ay-macerasi-bursa-cocuk-etkinlikleri.jpg
END:VEVENT
BEGIN:VEVENT
DTSTART;TZID=Europe/Istanbul:20241012T130000
DTEND;TZID=Europe/Istanbul:20241012T135000
DTSTAMP:20260424T162830
CREATED:20241008T142132Z
LAST-MODIFIED:20241008T142132Z
UID:957-1728738000-1728741000@bursaetkinlikleri.com
SUMMARY:Ağustos Böceği ile Karınca
DESCRIPTION:Yaş Sınırı: 3+ \nSüre:40 Dakika \nAğustos Böceği\, Karınca’nın topladığı yiyecekleri düşünmeden yiyince ikisi de aç kalırlar. Üstelik ormanlarında kıtlık vardır ve yiyecek hiçbir şey kalmamıştır. Yemek bulmak için çıktıkları yolculukta birbirlerine çok şey öğretirler. Artık ikisi de eskiden olduğu kişiler değildirler.
URL:https://bursaetkinlikleri.com/event/agustos-bocegi-ile-karinca/
LOCATION:Podyum Sanat Mahal\, Cumhuriyet\, Nilüfer Hatun Cd. No:114\, 16140 Ni̇lüfer/Bursa\, Bursa\, Nilüfer\, 16000\, Turkey
CATEGORIES:Akış,Bursa'da Öne Çıkan Etkinlikler
ATTACH;FMTTYPE=image/jpeg:https://bursaetkinlikleri.com/wp-content/uploads/2024/10/agustos-bocegi-ile-karinca-bursa-cocuk-etkinlikleri.jpg
END:VEVENT
BEGIN:VEVENT
DTSTART;TZID=Europe/Istanbul:20241012T200000
DTEND;TZID=Europe/Istanbul:20241012T213000
DTSTAMP:20260424T162830
CREATED:20241008T143018Z
LAST-MODIFIED:20241008T143018Z
UID:973-1728763200-1728768600@bursaetkinlikleri.com
SUMMARY:Cihat Tamer Ve Zihni Göktay İle Bir Varmış Bir Yokmuş
DESCRIPTION:Yaş Sınırı: 8+\nSüre: 90 Dakika/ İki Perde \nSahnede\, Beyaz Perdede ve Televizyonda geçen 60 yıl… \nHalkın kalbinde taht kurmuş iki ustanın acı-tatlı 60 yıllık hikayesine bir yolculuk… \nTiyatro oyunları\, Kabareler\, Müzikaller\, Sinema Filmleri\, Diziler\, Bir Varmış Bir Yokmuş Misali\, \nMasal Tadında\, \nMüzik ve Şarkılar Eşliğinde\, Seyircilerle Buluşuyor… \nSanat Yönetmenliğini Serkan Budak’ın\, Yapımcılığını Emre Özkan’ın yaptığı\, “CİHAT TAMER VE ZİHNİ GÖKTAY İLE BİR VARMIŞ BİR YOKMUŞ” adlı müzikli gösteri haziran ayı itibarıyla seyircilerle buluşuyor.
URL:https://bursaetkinlikleri.com/event/cihat-tamer-ve-zihni-goktay-ile-bir-varmis-bir-yokmus/
LOCATION:BAOB Sahne\, Odunluk\, Akpınar Cd. No:8\, 16110 Ni̇lüfer/Bursa\, Bursa\, Nilüfer\, 16000\, Turkey
CATEGORIES:Akış,Tiyatro
ATTACH;FMTTYPE=image/png:https://bursaetkinlikleri.com/wp-content/uploads/2024/10/cihat-tamer-ve-zihni-goktay-ile-bir-varmis-bir-yokmus-bursa-tiyato-etkinlikleri.png
END:VEVENT
END:VCALENDAR