BEGIN:VCALENDAR
VERSION:2.0
PRODID:-//Bursa&#039;daki Etkinlikler - ECPv6.15.20//NONSGML v1.0//EN
CALSCALE:GREGORIAN
METHOD:PUBLISH
X-ORIGINAL-URL:https://bursaetkinlikleri.com
X-WR-CALDESC:Bursa&#039;daki Etkinlikler için etkinlikler
REFRESH-INTERVAL;VALUE=DURATION:PT1H
X-Robots-Tag:noindex
X-PUBLISHED-TTL:PT1H
BEGIN:VTIMEZONE
TZID:Europe/Istanbul
BEGIN:STANDARD
TZOFFSETFROM:+0300
TZOFFSETTO:+0300
TZNAME:+03
DTSTART:20240101T000000
END:STANDARD
END:VTIMEZONE
BEGIN:VEVENT
DTSTART;TZID=Europe/Istanbul:20250110T203000
DTEND;TZID=Europe/Istanbul:20250110T203000
DTSTAMP:20260424T130555
CREATED:20241231T111559Z
LAST-MODIFIED:20241231T111559Z
UID:1245-1736541000-1736541000@bursaetkinlikleri.com
SUMMARY:İstibdat Kumpanyası
DESCRIPTION:Bursa Aspera Sahne Etkinlikleri 10 Ocak cuma günü İstibdat Kumpanyası Tiyatro Oyunu ile devam ediyor. \n“Tarih kadar eskidir hürriyetin savaşı…” Sene 1876. Sultan 2. Abdülhamit Han’ın tahta geçmesinden kısa süre sonra başlayan ve otuz sene sürecek baskının\, sansürün her alanda hissedildiği İstibdat Dönemi… İstibdat Kumpanyası\, Osmanlı’nın İstibdat yıllarında bir kumpanyanın hem güldüren hem de derin düşüncelere sürükleyen hikayesini anlatıyor. Kumpanya oyuncuları\, izleyenlere görünenden çok daha fazlasını sunarken\, perde arkasında başka bir oyun oynuyor: hayatta kalma ve özgürlük mücadelesi. Bu hikaye\, şarkılar ve kahkahalar arasında bir dönemin izlerini taşırken\, sanatın baskıya karşı nasıl bir direniş sembolü olduğunu gösteriyor. Cesaret ve mizahla örülü bu unutulmaz oyunu kaçırmayın! İstibdat Kumpanyası sahnede\, gerçeklerin tam ortasında!
URL:https://bursaetkinlikleri.com/event/istibdat-kumpanyasi/
LOCATION:Aspera Sahne\, 100 yıl mahallesi\, Uğur Mumcu Blv. No:53/B Kat2\, 16250 Ni̇lüfer/Bursa\, Bursa\, Nilüfer\, Turkey
CATEGORIES:Bursa Ocak Ayı Etkinlikleri,Bursa'da Öne Çıkan Etkinlikler,Tiyatro
ATTACH;FMTTYPE=image/jpeg:https://bursaetkinlikleri.com/wp-content/uploads/2024/12/bursa-ocak-etkinlikleri-istibdat-kumpanyasi.jpg
END:VEVENT
BEGIN:VEVENT
DTSTART;TZID=Europe/Istanbul:20250110T203000
DTEND;TZID=Europe/Istanbul:20250110T203000
DTSTAMP:20260424T130555
CREATED:20241231T111950Z
LAST-MODIFIED:20241231T111950Z
UID:1250-1736541000-1736541000@bursaetkinlikleri.com
SUMMARY:Lady Malumat Stand Up Gösterisi
DESCRIPTION:Bursa Lalibi Meşelipark Sahne’de Etkinlikler 10 Ocak cuma günü Lady Malumat Stand Up Gösterisi ile devam ediyor. \n\n\nReklamcılık hayatını zirvede bırakıp komedyenliğe magmadan başlayan ve Youtube’da estiren OnlyCans programının isim annesi\, Lady Malumat sizlerle!
URL:https://bursaetkinlikleri.com/event/lady-malumat-stand-up-gosterisi/
LOCATION:L’alibi Meşelipark\, Işıktepe OSB\, Meşeli Park Tesisleri\, Işıktepe Mah. Ormanlar Caddesi\, Organize Sanayi Bölgesi No:1/1\, 16140 Ni̇lüfer/Bursa\, Bursa\, Nilüfer\, 16285\, Turkey
CATEGORIES:Bursa Ocak Ayı Etkinlikleri,Stand Up
ATTACH;FMTTYPE=image/jpeg:https://bursaetkinlikleri.com/wp-content/uploads/2024/12/lady-malumat-stand-up-bursa-gosteriler.jpeg
END:VEVENT
BEGIN:VEVENT
DTSTART;TZID=Europe/Istanbul:20250110T210000
DTEND;TZID=Europe/Istanbul:20250110T210000
DTSTAMP:20260424T130555
CREATED:20241231T112318Z
LAST-MODIFIED:20241231T112318Z
UID:1254-1736542800-1736542800@bursaetkinlikleri.com
SUMMARY:WALKMAN 90'lar Türkçe Pop Gecesi
DESCRIPTION:Bursa Jolly Joker Sahne’de Etkinlikler 10 Ocak cuma günü WALKMAN 90’lar Türkçe Pop Gecesi Konseri ile devam ediyor. \n\n\nYaş Sınırı: 18+
URL:https://bursaetkinlikleri.com/event/walkman-90lar-turkce-pop-gecesi/
LOCATION:Jolly Joker Bursa\, Cumhuriyet\, Nilüfer Hatun Cd. No:114\, 16140 Ni̇lüfer/Bursa\, Bursa\, Nilüfer\, Turkey
CATEGORIES:Bursa Ocak Ayı Etkinlikleri,Konser
ATTACH;FMTTYPE=image/jpeg:https://bursaetkinlikleri.com/wp-content/uploads/2024/12/walkman-90lar-turkce-pop-gecesi-jollyjoker-etkinlikleri.jpg
END:VEVENT
END:VCALENDAR