BEGIN:VCALENDAR
VERSION:2.0
PRODID:-//Bursa&#039;daki Etkinlikler - ECPv6.15.20//NONSGML v1.0//EN
CALSCALE:GREGORIAN
METHOD:PUBLISH
X-ORIGINAL-URL:https://bursaetkinlikleri.com
X-WR-CALDESC:Bursa&#039;daki Etkinlikler için etkinlikler
REFRESH-INTERVAL;VALUE=DURATION:PT1H
X-Robots-Tag:noindex
X-PUBLISHED-TTL:PT1H
BEGIN:VTIMEZONE
TZID:Europe/Istanbul
BEGIN:STANDARD
TZOFFSETFROM:+0300
TZOFFSETTO:+0300
TZNAME:+03
DTSTART:20240101T000000
END:STANDARD
END:VTIMEZONE
BEGIN:VEVENT
DTSTART;TZID=Europe/Istanbul:20250111T150000
DTEND;TZID=Europe/Istanbul:20250111T150000
DTSTAMP:20260424T182307
CREATED:20241231T113125Z
LAST-MODIFIED:20241231T113125Z
UID:1262-1736607600-1736607600@bursaetkinlikleri.com
SUMMARY:Bir Adam Yaratmak
DESCRIPTION:Bursa Tayyare Kültür Merkezi’nde Etkinlikler 11 Ocak cuma günü Odadaki Sihirbaz Tiyatro Oyunu ile devam ediyor. \n\n\n\nYaş Sınırı: +13\n2 Perde \nNecip Fazıl Kısakürek’in 1937 yılında yazdığı bir tiyatro eseridir. Türk edebiyatında üzerinde en çok konuşulan oyunlardan birisi olarak dikkat çekmiştir. Güçlü felsefesi\, fikirleri çarpıcı bir biçimde aktaran diyaloglarıyla\, dönemin yorumlarıyla ‘’Türk Şekspiri’’ benzetimiyle değerlendirilmiştir. \nOyunun başkahramanı Yazar Hüsrev’in\, ölüm olgusu üzerine yazdığı oyunun çok beğenilmesi üzerine\, yazdığı oyun kahramanının başına gelenlerle\, yazarın yaşamı arasında benzerlik olup olmadığı irdelenmeye başlanmıştır. Bu hal\, yazarın yaşamında kader ve maneviyat üzerine sorgulama sürecini tetikleyerek\, ölüm ve yaratılış üzerine derin bir süreç oluşturacaktır. \nBu sorgu\, belki de onu\, yazdığı oyundaki kahraman gibi intihara sürükleyecektir… \n*Oyunumuzda kurusıkı tabanca kullanılmaktadır. \nKÜNYE: \nYazar: Necip Fazıl Kısakürek \nYönetmen: Günay Yunus Güney \nMüzik: Ömer Göktepeliler \nDekor ve Kostüm Tasarım: Murat Şimşek \nIşık: Kaan Aloğlu \n(Sayın Serdar Solum’a Işık Tasarımdaki Desteklerinden Ötürü Teşekkür Ederiz.) \nTeknik Ses: Orhan Akkaya\, Fatih Esat Yazıcı \nTeknik Işık: Serdar Solum\, Ferdi Suna \nSahne Amiri: Gürkan Sargın \nOyuncular: Aykan Yılmaz\, Nihal Türksever\, Yüksel Hakverdi\, Uğur Serener\, M. Eren Topçak\, Murat Liman\, Tuba Bayram\, Volkan Yıldız\, Kutlay Akbal\, Erdem Tanır \n  \n\n\n\nEtkinlik Türü Dram\nSüre 120 dakika
URL:https://bursaetkinlikleri.com/event/bir-adam-yaratmak/
LOCATION:Tayyare Kültür Merkezi\, Osmangazi Atatürk Cad 6\, 6. Uçak Sk. No:1\, 16020 Osmangazi̇/Bursa\, Bursa\, Osmangazi\, 16000\, Turkey
CATEGORIES:Bursa Ocak Ayı Etkinlikleri,Tiyatro
ATTACH;FMTTYPE=image/jpeg:https://bursaetkinlikleri.com/wp-content/uploads/2024/12/bir-adam-yaratmak-bursa-etkinlikleri.jpeg
END:VEVENT
END:VCALENDAR