BEGIN:VCALENDAR
VERSION:2.0
PRODID:-//Bursa&#039;daki Etkinlikler - ECPv6.15.20//NONSGML v1.0//EN
CALSCALE:GREGORIAN
METHOD:PUBLISH
X-ORIGINAL-URL:https://bursaetkinlikleri.com
X-WR-CALDESC:Bursa&#039;daki Etkinlikler için etkinlikler
REFRESH-INTERVAL;VALUE=DURATION:PT1H
X-Robots-Tag:noindex
X-PUBLISHED-TTL:PT1H
BEGIN:VTIMEZONE
TZID:Europe/Istanbul
BEGIN:STANDARD
TZOFFSETFROM:+0300
TZOFFSETTO:+0300
TZNAME:+03
DTSTART:20240101T000000
END:STANDARD
END:VTIMEZONE
BEGIN:VEVENT
DTSTART;TZID=Europe/Istanbul:20250202T170000
DTEND;TZID=Europe/Istanbul:20250202T170000
DTSTAMP:20260424T161811
CREATED:20250115T140241Z
LAST-MODIFIED:20250115T140241Z
UID:1317-1738515600-1738515600@bursaetkinlikleri.com
SUMMARY:İnternational Berussa Ballet & Contemporary Dance Competition - Gala Gösterisi
DESCRIPTION:Bursa’da Şubat ayı etkinlikleri Merinos Atatürk Kültür Merkezi’nde devam ediyor. 2 Şubat Pazar günü saat 14:00’de Görükle Çek Sanat’ta seyirci ile buluşacak İnternational Berussa Ballet & Contemporary Dance Competition – Gala Gösterisi\, tüm sanat ve dans severleri davet ediyor.\n\n\n\n\n\n\n\n\n\n\n\n\n4.Uluslararası Berussa Bale ve Modern Dans Yarışması Gala Gösterisi Türkiye’den ve dünyadan ünlü sanatçıları ve dans topluluklarını ağırlıyor. Bursa Merinos Atatürk Kongre Kültür Merkezinde gerçekleşecek olan Gala Gösterisinde Berlin Ballet Company kurucuları ve baş dansçıları Arshak Ghalumyan ve Krasina Pavlova sahne alacak. Ayrıca\, Mercan Selçuk Dans Topluluğu\, muhteşem koreografileri ve yetenekli dansçılarıyla Bursalı sanat severler ile buluşacak. 4.Uluslararası Berussa Bale ve Modern Dans Yarışmasında ödül kazananların da sahne alacağı Galada\, sanat severler en güzek klasik bale ve modern dans örneklerini izleme fırsatını bulacaklar. \n\n\nEtkinlik Türü Dans Gösterisi\nSüre 120 dakika
URL:https://bursaetkinlikleri.com/event/international-berussa-ballet-contemporary-dance-competition-gala-gosterisi/
LOCATION:Merinos Atatürk Kültür Merkezi\, Santral Garaj\, Atatürk Kongre Kültür Merkezi\, 16099 Osmangazi̇/Bursa\, Bursa\, Osmangazi\, 16000\, Turkey
CATEGORIES:Bursa Şubat Ayı Etkinlikleri,Bursa'da Öne Çıkan Etkinlikler,Gösteri
ATTACH;FMTTYPE=image/png:https://bursaetkinlikleri.com/wp-content/uploads/2025/01/international-berussa-ballet-contemporary-dance-competition-gala-gosterisi-bursa-subat-ayi-etkinlikleri.png
END:VEVENT
END:VCALENDAR