BEGIN:VCALENDAR
VERSION:2.0
PRODID:-//Bursa&#039;daki Etkinlikler - ECPv6.15.20//NONSGML v1.0//EN
CALSCALE:GREGORIAN
METHOD:PUBLISH
X-WR-CALNAME:Bursa&#039;daki Etkinlikler
X-ORIGINAL-URL:https://bursaetkinlikleri.com
X-WR-CALDESC:Bursa&#039;daki Etkinlikler için etkinlikler
REFRESH-INTERVAL;VALUE=DURATION:PT1H
X-Robots-Tag:noindex
X-PUBLISHED-TTL:PT1H
BEGIN:VTIMEZONE
TZID:Europe/Istanbul
BEGIN:STANDARD
TZOFFSETFROM:+0300
TZOFFSETTO:+0300
TZNAME:+03
DTSTART:20240101T000000
END:STANDARD
END:VTIMEZONE
BEGIN:VEVENT
DTSTART;TZID=Europe/Istanbul:20250201T130000
DTEND;TZID=Europe/Istanbul:20250201T210000
DTSTAMP:20260425T051644
CREATED:20241231T171224Z
LAST-MODIFIED:20241231T171224Z
UID:1289-1738414800-1738443600@bursaetkinlikleri.com
SUMMARY:Şeker Portakalı
DESCRIPTION:Bursa’da Şubat ayı etkinlikleri Podyum Sanat Mahal’de  devam ediyor. 1 Şubat Cumartesi günü çocuklara özel gösterim ile Şeker Portakalı Tiyatro Oyunu\, minik seyircileri ile buluşuyor.\n\n\n\n\n\nYaş Sınırı:4+\nSüre: 60 dakika \nFiliz Bozok’un uyarlayıp\, yönettiği Şeker Portakalı oyunu\, izleyicisiyle buluşmaya  devam ediyor. \nÇok fakir bir ailenin çocuklarından biri olan Zeze\, 5 yaşında olmasına rağmen hayal gücü ve zekası çok gelişmiş\, oldukça yaramaz bir çocuktur. Çok meraklı olan ve çevresindeki her şeyi keşfetmeye çalışan bu çocuk okumayı da erken yaşta öğrenmiştir\, öğretmeninin gözdesi olmuştur. Yeni taşındıkları evde bahçedeki ağaçlardan biri olan şeker portakalı fidanı Zeze ile konuşmaya başlar ve çok iyi iki arkadaş olurlar. Zeze bir yandan yaramazlıklarına devam ederken diğer yandan da okuldaki başarısıyla öğretmeni ve çevresindekileri oldukça şaşırtır. Günün birinde Zeze bir yaramazlık neticesinde ayağını keser ve şehrin en güzel arabasına sahip olan Portekizli O’nu eczaneye götürür. Zeze Portekizli’den çok şey öğrenir ve bir süre sonra dost olurlar. Zeze bu dostluk sayesinde sevginin ne olduğunu anlamış ve eski yaramazlıklarını bırakmıştır. \nBu Eserin Sahnelenme Hakkı “1968 EDITORA MELHORAMENTOS LTDA\, BRAZIL” Şirketinden Devralınmıştır
URL:https://bursaetkinlikleri.com/event/seker-portakali/
LOCATION:Podyum Sanat Mahal\, Cumhuriyet\, Nilüfer Hatun Cd. No:114\, 16140 Ni̇lüfer/Bursa\, Bursa\, Nilüfer\, 16000\, Turkey
CATEGORIES:Bursa Şubat Ayı Etkinlikleri,Çocuklara Özel
ATTACH;FMTTYPE=image/png:https://bursaetkinlikleri.com/wp-content/uploads/2024/12/seker-portakali-bursa-cocuk-oyunlari.png
END:VEVENT
BEGIN:VEVENT
DTSTART;TZID=Europe/Istanbul:20250201T200000
DTEND;TZID=Europe/Istanbul:20250201T200000
DTSTAMP:20260425T051644
CREATED:20241231T172829Z
LAST-MODIFIED:20241231T172829Z
UID:1300-1738440000-1738440000@bursaetkinlikleri.com
SUMMARY:Barbaros Şansal Burda Olmaz
DESCRIPTION:Bursa’da Şubat ayı etkinlikleri Podyum Sanat Mahal’de  devam ediyor. 1 Şubat Cumartesi günü saat 20:00’dee Podyum Sanat Mahal’de sergilenecek olan Barbaros Şansal Burda Olmaz stand up gösterisi\, tüm sanat severler davet ediyor.\n\n\n\n\n\n\n\n\nYaş Sınırı: 16+\nSüre: 90 Dakika\nEtkinlik Türü Stand up \n“Terzi Yamağı Konuşuyor!” \nBarbaros Şansal\, Burda Olmaz adlı gösterisiyle\, sürpriz konukların da katılımıyla\, seyirci ile buluşuyor.\nMizahi Diliyle Anlatı Ustalığı Yapan Şansal İzleyicilerine\, Moda Dünyasından\, Sanat Dünyasına\, “Burda Olmaz Fakat Her Yerde Olur”\nDiyerek Politik Bir Merak Uyandırıyor…\nBiçen\, Diken\, Giyen: Barbaros Şansal\nOyun Süresi: Keyfimize Göre 🙂
URL:https://bursaetkinlikleri.com/event/barbaros-sansal-burda-olmaz/
LOCATION:Podyum Sanat Mahal\, Cumhuriyet\, Nilüfer Hatun Cd. No:114\, 16140 Ni̇lüfer/Bursa\, Bursa\, Nilüfer\, 16000\, Turkey
CATEGORIES:Bursa Şubat Ayı Etkinlikleri,Stand Up
ATTACH;FMTTYPE=image/jpeg:https://bursaetkinlikleri.com/wp-content/uploads/2024/12/barbaros-sansal-burda-olmaz-bursa-standtup-gosterisi.jpeg
END:VEVENT
END:VCALENDAR