BEGIN:VCALENDAR
VERSION:2.0
PRODID:-//Bursa&#039;daki Etkinlikler - ECPv6.15.20//NONSGML v1.0//EN
CALSCALE:GREGORIAN
METHOD:PUBLISH
X-ORIGINAL-URL:https://bursaetkinlikleri.com
X-WR-CALDESC:Bursa&#039;daki Etkinlikler için etkinlikler
REFRESH-INTERVAL;VALUE=DURATION:PT1H
X-Robots-Tag:noindex
X-PUBLISHED-TTL:PT1H
BEGIN:VTIMEZONE
TZID:Europe/Istanbul
BEGIN:STANDARD
TZOFFSETFROM:+0300
TZOFFSETTO:+0300
TZNAME:+03
DTSTART:20230101T000000
END:STANDARD
END:VTIMEZONE
BEGIN:VEVENT
DTSTART;TZID=Europe/Istanbul:20241002T203000
DTEND;TZID=Europe/Istanbul:20241002T203000
DTSTAMP:20260422T145205
CREATED:20240918T154519Z
LAST-MODIFIED:20240918T154519Z
UID:882-1727901000-1727901000@bursaetkinlikleri.com
SUMMARY:Gırgır Stand Up Gecesi
DESCRIPTION:Gırgır Stand Up Gecesi Etkinliği\nYaş Sınırı: 15+\nSüre: 90 dk. \nEfsane mizah sahnede… \nGülmeye\, çok çok gülmeye hazır olun. Usta işi mizah\, bol kahkaha bu gösteride. Gösterinin bazı anlarını şaşırarak bazı anlarını da “Bu hikayede anlatılan kişi benim.” diyerek seyredeceksiniz.  Bu gösteri aklımızda kalan unutulmaz karikatürler gibi bir tat bırakıyor. Hayatımıza etki eden\, güldürerek güzelleştiren\, her dönem muhalif olan efsane mizahçılarımıza adadığımız bu gösteri sizi çok güldürecek.  Günlük işleri\, koşturmacaları bir kenara bırakın ve yerlerinizi alın. BuTiyatro’nun güldürerek güzelleştirme terapisi başlıyor.  TEDx konuşmacılarından\, BKM Mutfak’ta stand up gösteriler yapan\, SENİNLE EVLENİR MİYİM?\, ETİK ALKOL\, BOŞANMA TEKLİFİ\, FREUD’UN İNSANLARI oyunlarının ödüllü yazarı\, Gırgır dergisi ekibinden Barbaros Uzunöner sahnede.
URL:https://bursaetkinlikleri.com/event/girgir-stand-up-gecesi/
LOCATION:Uğur Mumcu Sahnesi\, Ataevler\, Yılmaz Akkılıç Cd. Basın Kültür Sarayı No:2\, 16140 Nilüfer/Ni̇lüfer/Bursa\, Bursa\, Nilüfer\, 16000\, Turkey
CATEGORIES:Akış,Stand Up
ATTACH;FMTTYPE=image/png:https://bursaetkinlikleri.com/wp-content/uploads/2024/09/bursa-ekim-etkinlikleri-girgir-stand-up-gecesi-.png
END:VEVENT
END:VCALENDAR