BEGIN:VCALENDAR
VERSION:2.0
PRODID:-//Bursa&#039;daki Etkinlikler - ECPv6.15.20//NONSGML v1.0//EN
CALSCALE:GREGORIAN
METHOD:PUBLISH
X-ORIGINAL-URL:https://bursaetkinlikleri.com
X-WR-CALDESC:Bursa&#039;daki Etkinlikler için etkinlikler
REFRESH-INTERVAL;VALUE=DURATION:PT1H
X-Robots-Tag:noindex
X-PUBLISHED-TTL:PT1H
BEGIN:VTIMEZONE
TZID:Europe/Istanbul
BEGIN:STANDARD
TZOFFSETFROM:+0300
TZOFFSETTO:+0300
TZNAME:+03
DTSTART:20230101T000000
END:STANDARD
END:VTIMEZONE
BEGIN:VEVENT
DTSTART;TZID=Europe/Istanbul:20241011T203000
DTEND;TZID=Europe/Istanbul:20241011T203000
DTSTAMP:20260422T150408
CREATED:20241008T140737Z
LAST-MODIFIED:20241008T140751Z
UID:931-1728678600-1728678600@bursaetkinlikleri.com
SUMMARY:Ali Rıza Tanyeli Kendime Düşünceler Stand Up
DESCRIPTION:Ali Rıza Tanyeli Kendime Düşünceler Stand Up Gösterisi 11 Ekim Cuma\, 20:30’a Bursa’nın yeni nesil gösteri mekanı L’alibi Meşelipark’ta… \nYaş sınırı: 18+\nSüre: 60 Dakika \nM.Ö. 180’de Marcus Aurelius derlediği düşünceleri 2024’te yakın çevresinden duyan Ali Rıza öğütlerle\, ağıtlarla bezediği kariyer yolculuğundan çok kendine düşüncelerini yöresel tartsızlıkla\, üşenmeden sahneye koyuyor! Biri Büyük Roma İmparatoru diğeri ise sıradan Urfalı Ali Rıza hayatta kalanın ilk ve tek kişilik gösterisi “Kendime Düşünceler” ile toplum önüne çıkıyor.
URL:https://bursaetkinlikleri.com/event/ali-riza-tanyeli-kendime-dusunceler-stand-up/
LOCATION:L’alibi Meşelipark\, Işıktepe OSB\, Meşeli Park Tesisleri\, Işıktepe Mah. Ormanlar Caddesi\, Organize Sanayi Bölgesi No:1/1\, 16140 Ni̇lüfer/Bursa\, Bursa\, Nilüfer\, 16285\, Turkey
CATEGORIES:Akış,Bursa'da Öne Çıkan Etkinlikler,Stand Up
ATTACH;FMTTYPE=image/jpeg:https://bursaetkinlikleri.com/wp-content/uploads/2024/10/ali-riza-tanyeli-kendime-dusunceler-stand-up-bursa-ekim-etkinikleri.jpg
END:VEVENT
END:VCALENDAR