BEGIN:VCALENDAR
VERSION:2.0
PRODID:-//Bursa&#039;daki Etkinlikler - ECPv6.15.20//NONSGML v1.0//EN
CALSCALE:GREGORIAN
METHOD:PUBLISH
X-ORIGINAL-URL:https://bursaetkinlikleri.com
X-WR-CALDESC:Bursa&#039;daki Etkinlikler için etkinlikler
REFRESH-INTERVAL;VALUE=DURATION:PT1H
X-Robots-Tag:noindex
X-PUBLISHED-TTL:PT1H
BEGIN:VTIMEZONE
TZID:Europe/Istanbul
BEGIN:STANDARD
TZOFFSETFROM:+0300
TZOFFSETTO:+0300
TZNAME:+03
DTSTART:20240101T000000
END:STANDARD
END:VTIMEZONE
BEGIN:VEVENT
DTSTART;TZID=Europe/Istanbul:20250107T203000
DTEND;TZID=Europe/Istanbul:20250107T203000
DTSTAMP:20260422T094445
CREATED:20241224T130614Z
LAST-MODIFIED:20241224T130614Z
UID:1220-1736281800-1736281800@bursaetkinlikleri.com
SUMMARY:Cihan Yoldaş 'Ayağınıza Sağlık'
DESCRIPTION:Cihan Yoldaş ‘Ayağınıza Sağlık’ Stand Up \nYaş sınırı: 18+\nSüre: 90 dakika \nSon yıllarda Instagram’da ofansif ve kara mizah üzerine çektiği reels videoları ile tanınan Cihan Yoldaş\, artık bir o kadar ofansif ve kara mizah hikayeleri ile sizlerle!
URL:https://bursaetkinlikleri.com/event/cihan-yoldas-ayaginiza-saglik/
LOCATION:L’alibi Meşelipark\, Işıktepe OSB\, Meşeli Park Tesisleri\, Işıktepe Mah. Ormanlar Caddesi\, Organize Sanayi Bölgesi No:1/1\, 16140 Ni̇lüfer/Bursa\, Bursa\, Nilüfer\, 16285\, Turkey
CATEGORIES:Bursa Ocak Ayı Etkinlikleri,Bursa'da Öne Çıkan Etkinlikler,Stand Up
ATTACH;FMTTYPE=image/png:https://bursaetkinlikleri.com/wp-content/uploads/2024/12/cihan-yoldas-ayaginiza-saglik-lalibi-Meselipark-etkinlikleri-.png
END:VEVENT
END:VCALENDAR